BEGIN:VCALENDAR
VERSION:2.0
PRODID:-//Laurel Arts - ECPv6.15.18//NONSGML v1.0//EN
CALSCALE:GREGORIAN
METHOD:PUBLISH
X-WR-CALNAME:Laurel Arts
X-ORIGINAL-URL:https://laurelarts.org
X-WR-CALDESC:Events for Laurel Arts
REFRESH-INTERVAL;VALUE=DURATION:PT1H
X-Robots-Tag:noindex
X-PUBLISHED-TTL:PT1H
BEGIN:VTIMEZONE
TZID:America/Detroit
BEGIN:DAYLIGHT
TZOFFSETFROM:-0500
TZOFFSETTO:-0400
TZNAME:EDT
DTSTART:20240310T070000
END:DAYLIGHT
BEGIN:STANDARD
TZOFFSETFROM:-0400
TZOFFSETTO:-0500
TZNAME:EST
DTSTART:20241103T060000
END:STANDARD
BEGIN:DAYLIGHT
TZOFFSETFROM:-0500
TZOFFSETTO:-0400
TZNAME:EDT
DTSTART:20250309T070000
END:DAYLIGHT
BEGIN:STANDARD
TZOFFSETFROM:-0400
TZOFFSETTO:-0500
TZNAME:EST
DTSTART:20251102T060000
END:STANDARD
BEGIN:DAYLIGHT
TZOFFSETFROM:-0500
TZOFFSETTO:-0400
TZNAME:EDT
DTSTART:20260308T070000
END:DAYLIGHT
BEGIN:STANDARD
TZOFFSETFROM:-0400
TZOFFSETTO:-0500
TZNAME:EST
DTSTART:20261101T060000
END:STANDARD
END:VTIMEZONE
BEGIN:VEVENT
DTSTART;TZID=America/Detroit:20250713T130000
DTEND;TZID=America/Detroit:20250713T150000
DTSTAMP:20260419T081450
CREATED:20250528T150838Z
LAST-MODIFIED:20250528T150838Z
UID:32167-1752411600-1752418800@laurelarts.org
SUMMARY:Wood Burning (Pyrography) Workshop - Choose between a Charcuterie Board or Hat
DESCRIPTION:We are excited to have Karli Hazlett of Artistry From Scratch in Ebensburg join our talented line up of instructors. Karli will be teaching a first of its kind class here at Laurel Arts in Pyrography. Also know as wood burning\, this is an art form where designs are created on wood or other materials by burning into them with a heated tool.\nStudents will use pyrography pens to burn beautiful designs into their choose of project; a handmade charcuterie board or a hat. You can also choose your design! Draw it on at the class or send it ahead to have it drawn on for you. Projects can be taken home that day! This workshop is great for all skill levels. Please specify which project you would like when you call to register.\n\nCharcuterie Board Class fee is payable to Laurel Arts: $50 nonmembers/$40 members plus a $25 materials fee\n\nHat Class fee is payable to Laurel Arts: $80 nonmembers/$64 members plus a $25 materials fee\n\nOur payment policy requires students to pay 50% of the total tuition and materials upon registration. This is non-refundable. Call/text 814-442-6217 or call 814-443-1835 to register by July 6 so supplies can be ordered in time. Pre-registration is required.
URL:https://laurelarts.org/event/wood-burning-pyrography-workshop-choose-between-a-charcuterie-board-or-hat/
LOCATION:Laurel Arts Education & Dance Center\, 601 Georgian Place\, Somerset\, PA\, 15501\, United States
CATEGORIES:﻿﻿Art Classes﻿﻿
ATTACH;FMTTYPE=image/png:https://laurelarts.org/wp-content/uploads/2025/05/Wood-Burning-Workshop.png
END:VEVENT
BEGIN:VEVENT
DTSTART;TZID=America/Detroit:20250718T173000
DTEND;TZID=America/Detroit:20250718T200000
DTSTAMP:20260419T081450
CREATED:20250613T232517Z
LAST-MODIFIED:20250613T232517Z
UID:32232-1752859800-1752868800@laurelarts.org
SUMMARY:Chunky Blanket Workshop
DESCRIPTION:Learn how to make your own chunky knit blanket with Amy Miller of Finnegan Knits in Finzel\, MD. This class is a great introduction to knitting- no needles required and at the end of the class you will have a lap blanket to call your own! Make your blanket part of your home decor\, or they make wonderful gifts! All ages 8 through adult are welcome! This class fills up fast so register early!\nRegistration is required. We ask that 50% of the fees be paid at the time of registration.\n\nDate/Time: Friday\, July 18 at 5:30pm to 8pm.\n\nClass fee payable to Laurel Arts:$40 Non-members$32 MembersMaterials Fee: $25That includes three skeins of yarn to make a lap blanket.\n\nLocation: Laurel Arts at 601 Georgian Place\, Somerset.Call/Text 814-442-6217 or call Laurel Arts at 814-443-1835 to register by July 11.
URL:https://laurelarts.org/event/chunky-blanket-workshop-2/
LOCATION:Laurel Arts Education & Dance Center\, 601 Georgian Place\, Somerset\, PA\, 15501\, United States
CATEGORIES:﻿﻿Art Classes﻿﻿
ATTACH;FMTTYPE=image/jpeg:https://laurelarts.org/wp-content/uploads/2025/06/506749950_1444654930220360_1258550436001344396_n.jpg
END:VEVENT
BEGIN:VEVENT
DTSTART;TZID=America/Detroit:20250723T180000
DTEND;TZID=America/Detroit:20250723T200000
DTSTAMP:20260419T081450
CREATED:20250613T225441Z
LAST-MODIFIED:20250613T225441Z
UID:32226-1753293600-1753300800@laurelarts.org
SUMMARY:Christmas in July Acrylic Painting with Cathi Neuhof
DESCRIPTION:Celebrate Christmas in July and create a beautiful and festive acrylic painting with Instructor Cathi Neuhof. Students can choose what color to paint their canvas. A rustic metal star\, various colors of vintage light bulbs\, vintage fabric and wood will complete the piece. Use it now to decorate and get it back out in December!\nWednesday\, July 23 at 6pm to 8pmClass fee payable to Laurel Arts:$40 Non-members$32 Membersplus a $15 materials fee\nLocation: Laurel Arts at 601 Georgian Place\, Somerset.\nCall/Text 814-442-6217 or call Laurel Arts at 814-443-1835 to register.
URL:https://laurelarts.org/event/christmas-in-july-acrylic-painting-with-cathi-neuhof/
LOCATION:Laurel Arts Education & Dance Center\, 601 Georgian Place\, Somerset\, PA\, 15501\, United States
CATEGORIES:﻿﻿Art Classes﻿﻿
ATTACH;FMTTYPE=image/png:https://laurelarts.org/wp-content/uploads/2025/06/Christmas-in-July-Acrylic-Painting-with-Cathi-Neuhof.png
END:VEVENT
END:VCALENDAR