BEGIN:VCALENDAR
VERSION:2.0
PRODID:-//Laurel Arts - ECPv6.15.18//NONSGML v1.0//EN
CALSCALE:GREGORIAN
METHOD:PUBLISH
X-WR-CALNAME:Laurel Arts
X-ORIGINAL-URL:https://laurelarts.org
X-WR-CALDESC:Events for Laurel Arts
REFRESH-INTERVAL;VALUE=DURATION:PT1H
X-Robots-Tag:noindex
X-PUBLISHED-TTL:PT1H
BEGIN:VTIMEZONE
TZID:America/Detroit
BEGIN:DAYLIGHT
TZOFFSETFROM:-0500
TZOFFSETTO:-0400
TZNAME:EDT
DTSTART:20240310T070000
END:DAYLIGHT
BEGIN:STANDARD
TZOFFSETFROM:-0400
TZOFFSETTO:-0500
TZNAME:EST
DTSTART:20241103T060000
END:STANDARD
BEGIN:DAYLIGHT
TZOFFSETFROM:-0500
TZOFFSETTO:-0400
TZNAME:EDT
DTSTART:20250309T070000
END:DAYLIGHT
BEGIN:STANDARD
TZOFFSETFROM:-0400
TZOFFSETTO:-0500
TZNAME:EST
DTSTART:20251102T060000
END:STANDARD
BEGIN:DAYLIGHT
TZOFFSETFROM:-0500
TZOFFSETTO:-0400
TZNAME:EDT
DTSTART:20260308T070000
END:DAYLIGHT
BEGIN:STANDARD
TZOFFSETFROM:-0400
TZOFFSETTO:-0500
TZNAME:EST
DTSTART:20261101T060000
END:STANDARD
END:VTIMEZONE
BEGIN:VEVENT
DTSTART;TZID=America/Detroit:20250605T180000
DTEND;TZID=America/Detroit:20250605T200000
DTSTAMP:20260419T081543
CREATED:20250410T010840Z
LAST-MODIFIED:20250410T010840Z
UID:31825-1749146400-1749153600@laurelarts.org
SUMMARY:Bring Your Pattern Crochet Series
DESCRIPTION:Let Instructor Tami Skavang help you tackle that crochet pattern you have been wanting to complete. She will assist students of all levels. Please bring your pattern and your choice of yarn.\nRegistration is required. We ask that 50% of the fees be paid at the time of registration.\nDates/Time: Thursday\, May 22; Wednesday\, May 28; Thursday\, June 5; Thursday\, June 12 at 6pm to 8pm\nClass fee payable to Laurel Arts:$65 Non-members$52 Members\nLocation: Laurel Arts at 601 Georgian Place\, Somerset.Call/Text 814-442-6217 or call Laurel Arts at 814-443-1835 to register by May 15.
URL:https://laurelarts.org/event/bring-your-pattern-crochet-series-2025-06-05/
LOCATION:Laurel Arts Education & Dance Center\, 601 Georgian Place\, Somerset\, PA\, 15501\, United States
CATEGORIES:﻿﻿Art Classes﻿﻿
ATTACH;FMTTYPE=image/png:https://laurelarts.org/wp-content/uploads/2025/04/Bring-Your-Own-Pattern-Crochet-Series.png
END:VEVENT
BEGIN:VEVENT
DTSTART;TZID=America/Detroit:20250608T140000
DTEND;TZID=America/Detroit:20250608T170000
DTSTAMP:20260419T081543
CREATED:20250508T003704Z
LAST-MODIFIED:20250508T003704Z
UID:31970-1749391200-1749402000@laurelarts.org
SUMMARY:Hawaiian Head Lei (Lei Po'o) Making Workshop
DESCRIPTION:We are so excited to have Instructors Taylor and Kiaora Tilini join us for a workshop here at Laurel Arts! These two sister-in-laws recently started their own lei making business. For today’s class\, they will be showing students how to create a beautiful Hawaiian Head Lei known as Lei Po’o which translates to “head garland”. Lei po’o are a significant part of Hawaiian culture\, representing love\, friendship\, and celebration. They are often given as gifts and worn during special occasions. This would make a great gift idea for someone you know or to wear for yourself!\n\nClass takes place on Sunday\, June 8 at 2:00pm to 5:00pm at 601 Georgian Place\, Somerset. (A second class will take place on Wednesday\, June 25 at 5pm to 8pm)\n\nClass fee is payable to Laurel Arts: $30 nonmembers/$24 members plus a $45 materials fee payable to Laurel Arts.\n\nMaterials fee includes fresh flowers & greenery\, raffia\, and a travel box for the lei.\n\nOur payment policy requires students to pay 50% of the total tuition and materials upon registration. This is non-refundable. Call/text 814-442-6217 or call 814-443-1835 to register by June 1 so supplies can be ordered in time. Pre-registration is required.
URL:https://laurelarts.org/event/hawaiian-head-lei-lei-poo-making-workshop/
LOCATION:Laurel Arts Education & Dance Center\, 601 Georgian Place\, Somerset\, PA\, 15501\, United States
CATEGORIES:﻿﻿Art Classes﻿﻿
ATTACH;FMTTYPE=image/png:https://laurelarts.org/wp-content/uploads/2025/05/Hawaiian-Head-Lei-Lei-PoMaking-Workshop.png
END:VEVENT
BEGIN:VEVENT
DTSTART;TZID=America/Detroit:20250612T180000
DTEND;TZID=America/Detroit:20250612T200000
DTSTAMP:20260419T081543
CREATED:20250410T010840Z
LAST-MODIFIED:20250410T010840Z
UID:31826-1749751200-1749758400@laurelarts.org
SUMMARY:Bring Your Pattern Crochet Series
DESCRIPTION:Let Instructor Tami Skavang help you tackle that crochet pattern you have been wanting to complete. She will assist students of all levels. Please bring your pattern and your choice of yarn.\nRegistration is required. We ask that 50% of the fees be paid at the time of registration.\nDates/Time: Thursday\, May 22; Wednesday\, May 28; Thursday\, June 5; Thursday\, June 12 at 6pm to 8pm\nClass fee payable to Laurel Arts:$65 Non-members$52 Members\nLocation: Laurel Arts at 601 Georgian Place\, Somerset.Call/Text 814-442-6217 or call Laurel Arts at 814-443-1835 to register by May 15.
URL:https://laurelarts.org/event/bring-your-pattern-crochet-series-2025-06-12/
LOCATION:Laurel Arts Education & Dance Center\, 601 Georgian Place\, Somerset\, PA\, 15501\, United States
CATEGORIES:﻿﻿Art Classes﻿﻿
ATTACH;FMTTYPE=image/png:https://laurelarts.org/wp-content/uploads/2025/04/Bring-Your-Own-Pattern-Crochet-Series.png
END:VEVENT
BEGIN:VEVENT
DTSTART;TZID=America/Detroit:20250625T170000
DTEND;TZID=America/Detroit:20250625T200000
DTSTAMP:20260419T081543
CREATED:20250508T004225Z
LAST-MODIFIED:20250508T004225Z
UID:31976-1750870800-1750881600@laurelarts.org
SUMMARY:Hawaiian Head Lei (Lei Po'o) Making Workshop
DESCRIPTION:We are so excited to have Instructors Taylor and Kiaora Tilini join us for a workshop here at Laurel Arts! These two sister-in-laws recently started their own lei making business. For today’s class\, they will be showing students how to create a beautiful Hawaiian Head Lei known as Lei Po’o which translates to “head garland”. Lei po’o are a significant part of Hawaiian culture\, representing love\, friendship\, and celebration. They are often given as gifts and worn during special occasions. This would make a great gift idea for someone you know or to wear for yourself!\n\nClass takes place on Wednesday\, June 25 at 5:00pm to 8:00pm at 601 Georgian Place\, Somerset.\n\nClass fee is payable to Laurel Arts: $30 nonmembers/$24 members plus a $45 materials fee payable to Laurel Arts.\nMaterials fee includes fresh flowers & greenery\, raffia\, and a travel box for the lei.\n\nOur payment policy requires students to pay 50% of the total tuition and materials upon registration. This is non-refundable. Call/text 814-442-6217 or call 814-443-1835 to register by June 18 so supplies can be ordered in time. Pre-registration is required.
URL:https://laurelarts.org/event/hawaiian-head-lei-lei-poo-making-workshop-2/
LOCATION:Laurel Arts Education & Dance Center\, 601 Georgian Place\, Somerset\, PA\, 15501\, United States
CATEGORIES:﻿﻿Art Classes﻿﻿
ATTACH;FMTTYPE=image/png:https://laurelarts.org/wp-content/uploads/2025/05/Hawaiian-Head-Lei-Lei-PoMaking-Workshop.png
END:VEVENT
END:VCALENDAR