BEGIN:VCALENDAR
VERSION:2.0
PRODID:-//Laurel Arts - ECPv6.15.18//NONSGML v1.0//EN
CALSCALE:GREGORIAN
METHOD:PUBLISH
X-WR-CALNAME:Laurel Arts
X-ORIGINAL-URL:https://laurelarts.org
X-WR-CALDESC:Events for Laurel Arts
REFRESH-INTERVAL;VALUE=DURATION:PT1H
X-Robots-Tag:noindex
X-PUBLISHED-TTL:PT1H
BEGIN:VTIMEZONE
TZID:America/Detroit
BEGIN:DAYLIGHT
TZOFFSETFROM:-0500
TZOFFSETTO:-0400
TZNAME:EDT
DTSTART:20240310T070000
END:DAYLIGHT
BEGIN:STANDARD
TZOFFSETFROM:-0400
TZOFFSETTO:-0500
TZNAME:EST
DTSTART:20241103T060000
END:STANDARD
BEGIN:DAYLIGHT
TZOFFSETFROM:-0500
TZOFFSETTO:-0400
TZNAME:EDT
DTSTART:20250309T070000
END:DAYLIGHT
BEGIN:STANDARD
TZOFFSETFROM:-0400
TZOFFSETTO:-0500
TZNAME:EST
DTSTART:20251102T060000
END:STANDARD
BEGIN:DAYLIGHT
TZOFFSETFROM:-0500
TZOFFSETTO:-0400
TZNAME:EDT
DTSTART:20260308T070000
END:DAYLIGHT
BEGIN:STANDARD
TZOFFSETFROM:-0400
TZOFFSETTO:-0500
TZNAME:EST
DTSTART:20261101T060000
END:STANDARD
END:VTIMEZONE
BEGIN:VEVENT
DTSTART;TZID=America/Detroit:20250108T100000
DTEND;TZID=America/Detroit:20250108T110000
DTSTAMP:20260419T130528
CREATED:20250105T031623Z
LAST-MODIFIED:20250207T194215Z
UID:30710-1736330400-1736334000@laurelarts.org
SUMMARY:Line Dancing Classes
DESCRIPTION:Try something new this winter and keep fit with line dancing classes with experienced Instructor Katherine Zeigler at Laurel Arts. This is a great way to get your body moving\, exercise your brain as you learn new dance moves\, and meet new people. No experience is required to join.Classes are weekly on Wednesdays 10am to 11amand Mondays 7:30pm to 8:30pm at 601 Georgian Place. Please watch our Laurel Arts Facebook for cancellations due to holidays or weather.\nCost: $5 per class\nYou can preregister to secure your spot or just drop in.Call or text 814-442-6217 our call 814-443-1835 to register ahead.
URL:https://laurelarts.org/event/line-dancing-classes-2/
LOCATION:Laurel Arts Education & Dance Center\, 601 Georgian Place\, Somerset\, PA\, 15501\, United States
CATEGORIES:Dance Classes
ATTACH;FMTTYPE=image/png:https://laurelarts.org/wp-content/uploads/2025/01/Mondays-730pm-to-830pm.png
END:VEVENT
BEGIN:VEVENT
DTSTART;TZID=America/Detroit:20250113T193000
DTEND;TZID=America/Detroit:20250113T203000
DTSTAMP:20260419T130528
CREATED:20250105T031623Z
LAST-MODIFIED:20250105T031623Z
UID:31114-1736796600-1736800200@laurelarts.org
SUMMARY:Line Dancing Classes
DESCRIPTION:Try something new this winter and keep fit with line dancing classes with experienced Instructor Katherine Zeigler at Laurel Arts. This is a great way to get your body moving\, exercise your brain as you learn new dance moves\, and meet new people. No experience is required to join.Classes are weekly on Wednesdays 10am to 11amand Mondays 7:30pm to 8:30pm at 601 Georgian Place. Please watch our Laurel Arts Facebook for cancellations due to holidays or weather.\nCost: $5 per class\nYou can preregister to secure your spot or just drop in.Call or text 814-442-6217 our call 814-443-1835 to register ahead.
URL:https://laurelarts.org/event/line-dancing-classes-2-2025-01-13/
LOCATION:Laurel Arts Education & Dance Center\, 601 Georgian Place\, Somerset\, PA\, 15501\, United States
CATEGORIES:Dance Classes
ATTACH;FMTTYPE=image/png:https://laurelarts.org/wp-content/uploads/2025/01/Mondays-730pm-to-830pm.png
END:VEVENT
BEGIN:VEVENT
DTSTART;TZID=America/Detroit:20250115T100000
DTEND;TZID=America/Detroit:20250115T110000
DTSTAMP:20260419T130528
CREATED:20250105T031623Z
LAST-MODIFIED:20250207T194241Z
UID:30712-1736935200-1736938800@laurelarts.org
SUMMARY:Line Dancing Classes
DESCRIPTION:Try something new this winter and keep fit with line dancing classes with experienced Instructor Katherine Zeigler at Laurel Arts. This is a great way to get your body moving\, exercise your brain as you learn new dance moves\, and meet new people. No experience is required to join.Classes are weekly on Wednesdays 10am to 11amand Mondays 7:30pm to 8:30pm at 601 Georgian Place. Please watch our Laurel Arts Facebook for cancellations due to holidays or weather.\nCost: $5 per class\nYou can preregister to secure your spot or just drop in.Call or text 814-442-6217 our call 814-443-1835 to register ahead.
URL:https://laurelarts.org/event/line-dancing-classes-2-2025-01-15/
LOCATION:Laurel Arts Education & Dance Center\, 601 Georgian Place\, Somerset\, PA\, 15501\, United States
CATEGORIES:Dance Classes
ATTACH;FMTTYPE=image/png:https://laurelarts.org/wp-content/uploads/2025/01/Mondays-730pm-to-830pm.png
END:VEVENT
BEGIN:VEVENT
DTSTART;TZID=America/Detroit:20250119T140000
DTEND;TZID=America/Detroit:20250119T160000
DTSTAMP:20260419T130528
CREATED:20241224T013833Z
LAST-MODIFIED:20241224T013833Z
UID:30652-1737295200-1737302400@laurelarts.org
SUMMARY:Cocoa & Candles Workshop
DESCRIPTION:What better way to keep warm on a January day than with cocoa and candles? Instructor Elizabeth Miller will guide students in making hot chocolate from scratch and how to make a scented soy candle. Pre-registration is required. We ask that 50% of the fees be paid at the time of registration.\n\nDate/Time: Sunday\, January 19\, 2024at 2pm to 4pm.\nClass fee payable to Laurel Arts:$30 Non-members$24 MembersMaterials Fee: $20\nLocation: Laurel Arts at 601 Georgian Place\, Somerset.Call/Text 814-442-6217 or call Laurel Arts at 814-443-2433 to register by January 12.
URL:https://laurelarts.org/event/cocoa-candles-workshop/
LOCATION:Laurel Arts Education & Dance Center\, 601 Georgian Place\, Somerset\, PA\, 15501\, United States
CATEGORIES:﻿﻿Art Classes﻿﻿
ATTACH;FMTTYPE=image/png:https://laurelarts.org/wp-content/uploads/2024/12/And-2.png
END:VEVENT
BEGIN:VEVENT
DTSTART;TZID=America/Detroit:20250120T193000
DTEND;TZID=America/Detroit:20250120T203000
DTSTAMP:20260419T130528
CREATED:20250105T031623Z
LAST-MODIFIED:20250105T031623Z
UID:31115-1737401400-1737405000@laurelarts.org
SUMMARY:Line Dancing Classes
DESCRIPTION:Try something new this winter and keep fit with line dancing classes with experienced Instructor Katherine Zeigler at Laurel Arts. This is a great way to get your body moving\, exercise your brain as you learn new dance moves\, and meet new people. No experience is required to join.Classes are weekly on Wednesdays 10am to 11amand Mondays 7:30pm to 8:30pm at 601 Georgian Place. Please watch our Laurel Arts Facebook for cancellations due to holidays or weather.\nCost: $5 per class\nYou can preregister to secure your spot or just drop in.Call or text 814-442-6217 our call 814-443-1835 to register ahead.
URL:https://laurelarts.org/event/line-dancing-classes-2-2025-01-20/
LOCATION:Laurel Arts Education & Dance Center\, 601 Georgian Place\, Somerset\, PA\, 15501\, United States
CATEGORIES:Dance Classes
ATTACH;FMTTYPE=image/png:https://laurelarts.org/wp-content/uploads/2025/01/Mondays-730pm-to-830pm.png
END:VEVENT
BEGIN:VEVENT
DTSTART;TZID=America/Detroit:20250121T180000
DTEND;TZID=America/Detroit:20250121T200000
DTSTAMP:20260419T130528
CREATED:20250106T180423Z
LAST-MODIFIED:20250106T180423Z
UID:30730-1737482400-1737489600@laurelarts.org
SUMMARY:Reversible Snowman/Gnome Paver Painting Workshop
DESCRIPTION:When the weather outside is frightful\, painting inside is so delightful! Join Instructor Cathi Neuhof for an evening of turning a simple outdoor paver into a beautiful decoration for winter. One side will painted as a gnome and the other a snowman as shown in the picture. Students can choose their own colors of provided paints.\nPre-registration is required. We ask that 50% of the fees be paid at the time of registration.\nDate/Time: Tuesday\, January 21\, 2025at 6pm to 8pm.Class fee payable to Laurel Arts:$65 Non-members$52 MembersPayable to Laurel Arts. Location: Laurel Arts at 601 Georgian Place\, Somerset.Call/Text 814-442-6217 or call Laurel Arts at 814-443-2433 to register by January 15.
URL:https://laurelarts.org/event/reversible-snowman-gnome-paver-painting-workshop/
LOCATION:Laurel Arts Education & Dance Center\, 601 Georgian Place\, Somerset\, PA\, 15501\, United States
CATEGORIES:﻿﻿Art Classes﻿﻿
ATTACH;FMTTYPE=image/png:https://laurelarts.org/wp-content/uploads/2025/01/Reversible-SnowmanGnome-Paver-Painting-Workshop.png
END:VEVENT
BEGIN:VEVENT
DTSTART;TZID=America/Detroit:20250122T100000
DTEND;TZID=America/Detroit:20250122T110000
DTSTAMP:20260419T130528
CREATED:20250105T031623Z
LAST-MODIFIED:20250207T194244Z
UID:30713-1737540000-1737543600@laurelarts.org
SUMMARY:Line Dancing Classes
DESCRIPTION:Try something new this winter and keep fit with line dancing classes with experienced Instructor Katherine Zeigler at Laurel Arts. This is a great way to get your body moving\, exercise your brain as you learn new dance moves\, and meet new people. No experience is required to join.Classes are weekly on Wednesdays 10am to 11amand Mondays 7:30pm to 8:30pm at 601 Georgian Place. Please watch our Laurel Arts Facebook for cancellations due to holidays or weather.\nCost: $5 per class\nYou can preregister to secure your spot or just drop in.Call or text 814-442-6217 our call 814-443-1835 to register ahead.
URL:https://laurelarts.org/event/line-dancing-classes-2-2025-01-22/
LOCATION:Laurel Arts Education & Dance Center\, 601 Georgian Place\, Somerset\, PA\, 15501\, United States
CATEGORIES:Dance Classes
ATTACH;FMTTYPE=image/png:https://laurelarts.org/wp-content/uploads/2025/01/Mondays-730pm-to-830pm.png
END:VEVENT
BEGIN:VEVENT
DTSTART;TZID=America/Detroit:20250125T100000
DTEND;TZID=America/Detroit:20250125T120000
DTSTAMP:20260419T130528
CREATED:20241224T020902Z
LAST-MODIFIED:20250105T014704Z
UID:30655-1737799200-1737806400@laurelarts.org
SUMMARY:Winter WondARTland Workshop
DESCRIPTION:Join Instructor Marsha Schmuck for a morning of winter art. Craft a melting snowman\, paint with ice\, and create a treat for the birds. If weather permits\, we will make a delicious batch of snow ice cream.\nRegistration is required. We ask that 50% of the fees be paid at the time of registration.\nDate/Time: Saturday\, January 25\, 2025at 10am to Noon.Class fee payable to Laurel Arts:$25 Non-members$20 MembersMaterials Fee: $12Location: Laurel Arts at 601 Georgian Place\, Somerset.Call/Text 814-442-6217 or call Laurel Arts at 814-443-2433 to register by January 12.
URL:https://laurelarts.org/event/winter-wondartland-workshop/
LOCATION:Laurel Arts Education & Dance Center\, 601 Georgian Place\, Somerset\, PA\, 15501\, United States
CATEGORIES:﻿﻿Art Classes﻿﻿
ATTACH;FMTTYPE=image/png:https://laurelarts.org/wp-content/uploads/2024/12/Winter-WondARTland-for-Kids.png
END:VEVENT
BEGIN:VEVENT
DTSTART;TZID=America/Detroit:20250126T140000
DTEND;TZID=America/Detroit:20250126T170000
DTSTAMP:20260419T130528
CREATED:20241223T153925Z
LAST-MODIFIED:20241223T153925Z
UID:30649-1737900000-1737910800@laurelarts.org
SUMMARY:Hot Chocolate Bomb Workshop
DESCRIPTION:Today we will be creating a variety of the popular hot chocolate bombs. We will think beyond the basic hot chocolate flavor. We will make an assortment of 6 chocolate and 6 white chocolate bombs. This class is best suited for adults.Pre-registration is required.Date/Time: Sunday\, January 26\, 2024at 2pm to 5pm.Class fee payable to Laurel Arts:$25 Non-members$20 MembersMaterials Fee: $25Location: Laurel Arts at 601 Georgian Place\, Somerset.Call/Text 814-442-6217 or call Laurel Arts at 814-443-2433 to register by January 20.
URL:https://laurelarts.org/event/hot-chocolate-bomb-workshop-3/
LOCATION:Laurel Arts Education & Dance Center\, 601 Georgian Place\, Somerset\, PA\, 15501\, United States
CATEGORIES:﻿﻿Art Classes﻿﻿
ATTACH;FMTTYPE=image/png:https://laurelarts.org/wp-content/uploads/2024/12/Your-paragraph-text-106.png
END:VEVENT
BEGIN:VEVENT
DTSTART;TZID=America/Detroit:20250127T193000
DTEND;TZID=America/Detroit:20250127T203000
DTSTAMP:20260419T130528
CREATED:20250105T031623Z
LAST-MODIFIED:20250105T031623Z
UID:31116-1738006200-1738009800@laurelarts.org
SUMMARY:Line Dancing Classes
DESCRIPTION:Try something new this winter and keep fit with line dancing classes with experienced Instructor Katherine Zeigler at Laurel Arts. This is a great way to get your body moving\, exercise your brain as you learn new dance moves\, and meet new people. No experience is required to join.Classes are weekly on Wednesdays 10am to 11amand Mondays 7:30pm to 8:30pm at 601 Georgian Place. Please watch our Laurel Arts Facebook for cancellations due to holidays or weather.\nCost: $5 per class\nYou can preregister to secure your spot or just drop in.Call or text 814-442-6217 our call 814-443-1835 to register ahead.
URL:https://laurelarts.org/event/line-dancing-classes-2-2025-01-27/
LOCATION:Laurel Arts Education & Dance Center\, 601 Georgian Place\, Somerset\, PA\, 15501\, United States
CATEGORIES:Dance Classes
ATTACH;FMTTYPE=image/png:https://laurelarts.org/wp-content/uploads/2025/01/Mondays-730pm-to-830pm.png
END:VEVENT
BEGIN:VEVENT
DTSTART;TZID=America/Detroit:20250129T100000
DTEND;TZID=America/Detroit:20250129T110000
DTSTAMP:20260419T130528
CREATED:20250105T031623Z
LAST-MODIFIED:20250207T194247Z
UID:30714-1738144800-1738148400@laurelarts.org
SUMMARY:Line Dancing Classes
DESCRIPTION:Try something new this winter and keep fit with line dancing classes with experienced Instructor Katherine Zeigler at Laurel Arts. This is a great way to get your body moving\, exercise your brain as you learn new dance moves\, and meet new people. No experience is required to join.Classes are weekly on Wednesdays 10am to 11amand Mondays 7:30pm to 8:30pm at 601 Georgian Place. Please watch our Laurel Arts Facebook for cancellations due to holidays or weather.\nCost: $5 per class\nYou can preregister to secure your spot or just drop in.Call or text 814-442-6217 our call 814-443-1835 to register ahead.
URL:https://laurelarts.org/event/line-dancing-classes-2-2025-01-29/
LOCATION:Laurel Arts Education & Dance Center\, 601 Georgian Place\, Somerset\, PA\, 15501\, United States
CATEGORIES:Dance Classes
ATTACH;FMTTYPE=image/png:https://laurelarts.org/wp-content/uploads/2025/01/Mondays-730pm-to-830pm.png
END:VEVENT
END:VCALENDAR