BEGIN:VCALENDAR
VERSION:2.0
PRODID:-//Laurel Arts - ECPv6.15.18//NONSGML v1.0//EN
CALSCALE:GREGORIAN
METHOD:PUBLISH
X-ORIGINAL-URL:https://laurelarts.org
X-WR-CALDESC:Events for Laurel Arts
REFRESH-INTERVAL;VALUE=DURATION:PT1H
X-Robots-Tag:noindex
X-PUBLISHED-TTL:PT1H
BEGIN:VTIMEZONE
TZID:America/Detroit
BEGIN:DAYLIGHT
TZOFFSETFROM:-0500
TZOFFSETTO:-0400
TZNAME:EDT
DTSTART:20230312T070000
END:DAYLIGHT
BEGIN:STANDARD
TZOFFSETFROM:-0400
TZOFFSETTO:-0500
TZNAME:EST
DTSTART:20231105T060000
END:STANDARD
BEGIN:DAYLIGHT
TZOFFSETFROM:-0500
TZOFFSETTO:-0400
TZNAME:EDT
DTSTART:20240310T070000
END:DAYLIGHT
BEGIN:STANDARD
TZOFFSETFROM:-0400
TZOFFSETTO:-0500
TZNAME:EST
DTSTART:20241103T060000
END:STANDARD
BEGIN:DAYLIGHT
TZOFFSETFROM:-0500
TZOFFSETTO:-0400
TZNAME:EDT
DTSTART:20250309T070000
END:DAYLIGHT
BEGIN:STANDARD
TZOFFSETFROM:-0400
TZOFFSETTO:-0500
TZNAME:EST
DTSTART:20251102T060000
END:STANDARD
END:VTIMEZONE
BEGIN:VEVENT
DTSTART;TZID=America/Detroit:20241203T090000
DTEND;TZID=America/Detroit:20241203T110000
DTSTAMP:20260419T143129
CREATED:20241028T233939Z
LAST-MODIFIED:20241028T234209Z
UID:30458-1733216400-1733223600@laurelarts.org
SUMMARY:Christmas Fun Day Camp
DESCRIPTION:Designed for Homeschoolers &  young artists Pre-k thru 6th grade \nTuesday Mornings 9am to 11am \n$15 per class \nMust Pre-register and prepay – call/text 814-442-6217 \nDecember 3 – Christmas Fun – Let’s celebrate the season together as we craft some festive decorations. \n 
URL:https://laurelarts.org/event/christmas-fun-day-camp/
LOCATION:Laurel Arts Education & Dance Center\, 601 Georgian Place\, Somerset\, PA\, 15501\, United States
CATEGORIES:﻿﻿Art Classes﻿﻿
ATTACH;FMTTYPE=image/png:https://laurelarts.org/wp-content/uploads/2024/09/Untitled-design-4.png
END:VEVENT
BEGIN:VEVENT
DTSTART;TZID=America/Detroit:20241205T180000
DTEND;TZID=America/Detroit:20241205T200000
DTSTAMP:20260419T143129
CREATED:20241014T235906Z
LAST-MODIFIED:20241104T162159Z
UID:30445-1733421600-1733428800@laurelarts.org
SUMMARY:Alcohol Inks Series - 1 week or all 4
DESCRIPTION:Join instructor Richelle Shriver (owner of Inkspiration by Richelle) for a colorful journey into the world of alcohol inks! The alcohol ink series is perfect for beginners and experienced crafters alike. Each week of the workshop series will guide you through creating stunning cards\, coasters\, light switch plates\, and ornaments.\n\nWorkshop 1: Card Making-Learn the basics of alcohol inks\, including blending and layering\, to create personalized cards. All materials are provided. You’ll leave with a set of beautiful\, handmade cards.\n\nWorkshop 2: Coasters-Transform marble coasters into custom\, one-of-a-kind works of art using alcohol inks. Participants will make a set of 4 coasters while learning how to use alcohol ink with marble.\n\nWorkshop 3: Light Switch Plates-Do you find your plain old light switch covers a little boring? Now is your chance to learn how to add a pop of color into any room with this fun alcohol ink activity!\n\nWorkshop 4: Get festive by crafting vibrant ornaments with alcohol inks. Perfect for holiday decorations or unique gifts\, you’ll learn how to apply inks to clear plastic ornaments.\n\nEach workshop includes all necessary materials and tools. Just bring an apron or wear old clothing! Disposable gloves will be provided. Held at Laurel Arts Dance Center at 601 Georgian Place\, Somerset.\n\nCost: $90 nonmembers/ $72 members\, plus $30 for supplies.Dates: Every other Thursday; November 7 & 21\, December 5 & 19\nYou can also choose to take just one of the workshops. The cost would be $25 nonmembers/ $20 members plus $10 materials.\n*Please note: You must take the first workshop as a prerequisite.\nPreregistration is required. Call/Text 814-442-6217 or call Laurel Arts at 814-443-1835 to register by November 1. We do ask for 50% of the fees to be paid at the time of registration. We can take credit card by phone or stop in at either location to pay with cash or check.
URL:https://laurelarts.org/event/alcohol-inks-series-1-week-or-all-4-2-2024-12-05/
LOCATION:Laurel Arts Education & Dance Center\, 601 Georgian Place\, Somerset\, PA\, 15501\, United States
CATEGORIES:﻿﻿Art Classes﻿﻿
ATTACH;FMTTYPE=image/png:https://laurelarts.org/wp-content/uploads/2024/10/Alcohol-Inks-Series.png
END:VEVENT
BEGIN:VEVENT
DTSTART;TZID=America/Detroit:20241206T180000
DTEND;TZID=America/Detroit:20241206T200000
DTSTAMP:20260419T143129
CREATED:20241002T234806Z
LAST-MODIFIED:20241002T234806Z
UID:30413-1733508000-1733515200@laurelarts.org
SUMMARY:Holiday Charcuterie Boards Workshop
DESCRIPTION:Join Instructor Elizabeth Miller for a fun evening and learn the art of decorating a charcuterie board. This way of serving a variety of foods has become very popular for parties\, family gatherings\, work meetings\, or any other get together. Learn to arrange an assortment of meats\, cheeses\, nuts and more to impress your guests at your next gathering.\n\nThe best part is…this is a couples event! Bring a friend\, a sibling\, parent\, child\, or your significant other for a night out. Bring your favorite beverage to enjoy while you arrange your edible art.\n\nCost for 1 couple: $35 nonmembers/$28 members plus a $35 materials fee all payable to Laurel Arts. As a couple\, you will create one 10×14 board. Class takes place at 601 Georgian Place\, Somerset.\n\nPreregistration is required at least 1 week before. Call or text 814-442-6217 or call 814-443-1835 to register. A nonrefundable payment of 50% of the fees is required at the time of registration.
URL:https://laurelarts.org/event/holiday-charcuterie-boards-workshop/
LOCATION:Laurel Arts Education & Dance Center\, 601 Georgian Place\, Somerset\, PA\, 15501\, United States
CATEGORIES:﻿﻿Art Classes﻿﻿
ATTACH;FMTTYPE=image/png:https://laurelarts.org/wp-content/uploads/2024/10/Holiday-Charcuterie-Boards.png
END:VEVENT
BEGIN:VEVENT
DTSTART;TZID=America/Detroit:20241207T150000
DTEND;TZID=America/Detroit:20241207T170000
DTSTAMP:20260419T143129
CREATED:20241106T132916Z
LAST-MODIFIED:20241106T132916Z
UID:30477-1733583600-1733590800@laurelarts.org
SUMMARY:Christmas in July in December
DESCRIPTION:Let’s mix things up a bit and celebrate Christmas in July in December. Join Instructor Marsha Schmuck for an afternoon of Christmas crafts in Summer style. We’ll make beautiful tree ornaments from sea shells. We’ll create a snow cone\, a festive flamingo for the tree\, and more!\n\nThis class is suitable for Pre-k – 5th grade.\n\nClass takes place on Saturday\, December 7 at 3pm to 5pm at 601 Georgian Place\, Somerset.\n\nThe cost for the workshop is $25 nonmembers/$20 members plus at $12 materials fee payable to Laurel Arts.\nPre-registration is required. Call or text 814-442-6217 or call Laurel Arts at 814-443-1835 to register by December 1.
URL:https://laurelarts.org/event/christmas-in-july-in-december/
LOCATION:Laurel Arts Education & Dance Center\, 601 Georgian Place\, Somerset\, PA\, 15501\, United States
CATEGORIES:﻿﻿Art Classes﻿﻿
ATTACH;FMTTYPE=image/png:https://laurelarts.org/wp-content/uploads/2024/11/Your-paragraph-text-103.png
END:VEVENT
BEGIN:VEVENT
DTSTART;TZID=America/Detroit:20241208T140000
DTEND;TZID=America/Detroit:20241208T160000
DTSTAMP:20260419T143129
CREATED:20240926T002817Z
LAST-MODIFIED:20240926T002817Z
UID:30319-1733666400-1733673600@laurelarts.org
SUMMARY:Traditional Cookie Decorating for Parent/Child
DESCRIPTION:Have you always wanted to create the beautiful sugar cookies you see in ads but just didn’t think you could? Join Instructor Elizabeth Miller for this festive workshop and learn to decorate a plate full of sugar cookies like the professionals! The best part is that this workshop is designed for an adult and child or any pair of friends\, spouses\, sisters\, etc to attend together!\n\nIf you would like to attend solo\, we also have a rate for you.\n\nThis workshop takes place on Sunday\, December 8 at 2pm to 4pm at 601 Georgian Place\, Somerset.\n\nCost: $55 couples\, $40 single\n\nOur new payment policy requires students to pay 50% of the total tuition and materials upon registration. This is non-refundable.Call or text 814-442-6217 or call 814-443-1835 to register by December 1.
URL:https://laurelarts.org/event/traditional-cookie-decorating-for-parent-child/
LOCATION:Laurel Arts Education & Dance Center\, 601 Georgian Place\, Somerset\, PA\, 15501\, United States
CATEGORIES:﻿﻿Art Classes﻿﻿
ATTACH;FMTTYPE=image/png:https://laurelarts.org/wp-content/uploads/2024/09/Traditional-Cookie-Decorating-ParentChild-Event.png
END:VEVENT
BEGIN:VEVENT
DTSTART;TZID=America/Detroit:20241210T090000
DTEND;TZID=America/Detroit:20241210T110000
DTSTAMP:20260419T143129
CREATED:20241028T234438Z
LAST-MODIFIED:20241028T235449Z
UID:30461-1733821200-1733828400@laurelarts.org
SUMMARY:Ornament Making Day Camp
DESCRIPTION:Designed for Homeschoolers &  young artists Pre-k thru 6th grade \nTuesday Mornings 9am to 11am \n$15 per class \nMust Pre-register and prepay – call/text 814-442-6217 \nDecember 10 – Ornament Making – Create some beautiful and unique ornaments to add to your tree or give as a gift! \n 
URL:https://laurelarts.org/event/ornament-making-day-camp/
LOCATION:Laurel Arts Education & Dance Center\, 601 Georgian Place\, Somerset\, PA\, 15501\, United States
CATEGORIES:﻿﻿Art Classes﻿﻿
ATTACH;FMTTYPE=image/png:https://laurelarts.org/wp-content/uploads/2024/09/Untitled-design-4.png
END:VEVENT
BEGIN:VEVENT
DTSTART;TZID=America/Detroit:20241210T180000
DTEND;TZID=America/Detroit:20241210T200000
DTSTAMP:20260419T143129
CREATED:20241114T220509Z
LAST-MODIFIED:20241114T220509Z
UID:30604-1733853600-1733860800@laurelarts.org
SUMMARY:Rope Wreath Workshop
DESCRIPTION:Make this unique wreath with rope and some embellishments of your choice. Students will be guided through a simple braiding technique to create the base. A variety of decorations will be available for you to make this piece your own. This class is perfect for beginners\, intermediate\, or advanced crafters and would make a great evening out with family and friends.\nTuesday\, December 10 at 6pm to 8pmClass fee payable to Laurel Arts:$30 Non-members$24 Membersplus a $15 materials fee payable to Laurel Arts\nLocation: Laurel Arts at 601 Georgian Place\, Somerset.\nPreregistration is required. Call/Text 814-442-6217 or call Laurel Arts at 814-443-1835 to register by Thursday\, December 5. We do ask for 50% of the fees to be paid at the time of registration. We can take credit card by phone or stop in at either location to pay with cash or check.
URL:https://laurelarts.org/event/rope-wreath-workshop/
LOCATION:Laurel Arts Education & Dance Center\, 601 Georgian Place\, Somerset\, PA\, 15501\, United States
CATEGORIES:﻿﻿Art Classes﻿﻿
ATTACH;FMTTYPE=image/png:https://laurelarts.org/wp-content/uploads/2024/11/Rope-Wreath-Workshop.png
END:VEVENT
BEGIN:VEVENT
DTSTART;TZID=America/Detroit:20241211T170000
DTEND;TZID=America/Detroit:20241211T190000
DTSTAMP:20260419T143129
CREATED:20241106T014302Z
LAST-MODIFIED:20241106T014302Z
UID:30474-1733936400-1733943600@laurelarts.org
SUMMARY:UV Resin Jewelry Workshop
DESCRIPTION:Join Lili Jean Creations for an evening of jewelry making. During this UV resin workshop\, participants will be introduced to the properties of UV resin and master various techniques\, such as embedding embellishments and mixing colors. Each workshop is designed to cater to participants of all skill levels\, whether beginners or seasoned artisans!\n\nDuring the workshop\, students will create their choice of a pair of earrings or a necklace.\n\nClass takes place on Wednesday\, December 11 at 5pm to 7pm at 601 Georgian Place\, Somerset.\n\nThe cost for the workshop is $90 nonmembers/$72 members payable to Laurel Arts.\n\nPre-registration is required. Call or text 814-442-6217 or call Laurel Arts at 814-443-1835 to register by December 4.
URL:https://laurelarts.org/event/uv-resin-jewelry-workshop/
LOCATION:Laurel Arts Education & Dance Center\, 601 Georgian Place\, Somerset\, PA\, 15501\, United States
CATEGORIES:﻿﻿Art Classes﻿﻿
ATTACH;FMTTYPE=image/png:https://laurelarts.org/wp-content/uploads/2024/11/Your-paragraph-text-102.png
END:VEVENT
BEGIN:VEVENT
DTSTART;TZID=America/Detroit:20241216T180000
DTEND;TZID=America/Detroit:20241216T200000
DTSTAMP:20260419T143129
CREATED:20241121T182622Z
LAST-MODIFIED:20241121T182622Z
UID:30612-1734372000-1734379200@laurelarts.org
SUMMARY:Christmas Crafting with Jenga Blocks
DESCRIPTION:Join Instructor Marsha Schmuck for a fun evening of Christmas crafting. Students will be using Jenga blocks to create some festive holiday decorations. Participants will make two trees and their choice of three ornaments. There will be a selection of paints\, stains\, and decorations to make the two trees unique.\n\nMonday\, December 16 at 6pm to 8pm at 601 Georgian Place\, Somerset\n\n$25 nonmembers/$20 members plus a $18 materials fee all payable to Laurel Arts.\n\nPreregistration is required at least 1 week before. Call or text 814-442-6217 or call 814-443-1835 to register. A nonrefundable payment of 50% of the fees is required at the time of registration.
URL:https://laurelarts.org/event/christmas-crafting-with-jenga-blocks/
LOCATION:Laurel Arts Education & Dance Center\, 601 Georgian Place\, Somerset\, PA\, 15501\, United States
CATEGORIES:﻿﻿Art Classes﻿﻿
ATTACH;FMTTYPE=image/png:https://laurelarts.org/wp-content/uploads/2024/11/Your-paragraph-text-105.png
END:VEVENT
BEGIN:VEVENT
DTSTART;TZID=America/Detroit:20241218T180000
DTEND;TZID=America/Detroit:20241218T200000
DTSTAMP:20260419T143129
CREATED:20241115T004828Z
LAST-MODIFIED:20241115T004828Z
UID:30607-1734544800-1734552000@laurelarts.org
SUMMARY:Quilted Ornament Making
DESCRIPTION:Learn to create beautiful no sew quilted ornaments. Christmas themed fabric and all supplies will be provided in the materials fee. Step by step instructions will be provided. These ornaments would be a great addition to your Christmas decor!\nClass takes place on Wednesday\, December 18 at 6pm to 8pm.\nCost: $30 nonmembers/$24 members payable to Laurel Arts plus a $15 materials fee to Marsha Schmuck.\nPreregistration is required by Friday\, December 13. 50% of all fees are due at the time of registration. This is nonrefundable.\nCall Laurel Arts at 814-443-1835 or text/call Marsha at 442-6217 to register.
URL:https://laurelarts.org/event/quilted-ornament-making-4/
LOCATION:Laurel Arts Education & Dance Center\, 601 Georgian Place\, Somerset\, PA\, 15501\, United States
CATEGORIES:﻿﻿Art Classes﻿﻿
ATTACH;FMTTYPE=image/png:https://laurelarts.org/wp-content/uploads/2024/11/Your-paragraph-text-104.png
END:VEVENT
BEGIN:VEVENT
DTSTART;TZID=America/Detroit:20241219T180000
DTEND;TZID=America/Detroit:20241219T200000
DTSTAMP:20260419T143129
CREATED:20241014T235906Z
LAST-MODIFIED:20241104T162202Z
UID:30446-1734631200-1734638400@laurelarts.org
SUMMARY:Alcohol Inks Series - 1 week or all 4
DESCRIPTION:Join instructor Richelle Shriver (owner of Inkspiration by Richelle) for a colorful journey into the world of alcohol inks! The alcohol ink series is perfect for beginners and experienced crafters alike. Each week of the workshop series will guide you through creating stunning cards\, coasters\, light switch plates\, and ornaments.\n\nWorkshop 1: Card Making-Learn the basics of alcohol inks\, including blending and layering\, to create personalized cards. All materials are provided. You’ll leave with a set of beautiful\, handmade cards.\n\nWorkshop 2: Coasters-Transform marble coasters into custom\, one-of-a-kind works of art using alcohol inks. Participants will make a set of 4 coasters while learning how to use alcohol ink with marble.\n\nWorkshop 3: Light Switch Plates-Do you find your plain old light switch covers a little boring? Now is your chance to learn how to add a pop of color into any room with this fun alcohol ink activity!\n\nWorkshop 4: Get festive by crafting vibrant ornaments with alcohol inks. Perfect for holiday decorations or unique gifts\, you’ll learn how to apply inks to clear plastic ornaments.\n\nEach workshop includes all necessary materials and tools. Just bring an apron or wear old clothing! Disposable gloves will be provided. Held at Laurel Arts Dance Center at 601 Georgian Place\, Somerset.\n\nCost: $90 nonmembers/ $72 members\, plus $30 for supplies.Dates: Every other Thursday; November 7 & 21\, December 5 & 19\nYou can also choose to take just one of the workshops. The cost would be $25 nonmembers/ $20 members plus $10 materials.\n*Please note: You must take the first workshop as a prerequisite.\nPreregistration is required. Call/Text 814-442-6217 or call Laurel Arts at 814-443-1835 to register by November 1. We do ask for 50% of the fees to be paid at the time of registration. We can take credit card by phone or stop in at either location to pay with cash or check.
URL:https://laurelarts.org/event/alcohol-inks-series-1-week-or-all-4-2-2024-12-19/
LOCATION:Laurel Arts Education & Dance Center\, 601 Georgian Place\, Somerset\, PA\, 15501\, United States
CATEGORIES:﻿﻿Art Classes﻿﻿
ATTACH;FMTTYPE=image/png:https://laurelarts.org/wp-content/uploads/2024/10/Alcohol-Inks-Series.png
END:VEVENT
END:VCALENDAR