BEGIN:VCALENDAR
VERSION:2.0
PRODID:-//Laurel Arts - ECPv6.15.18//NONSGML v1.0//EN
CALSCALE:GREGORIAN
METHOD:PUBLISH
X-ORIGINAL-URL:https://laurelarts.org
X-WR-CALDESC:Events for Laurel Arts
REFRESH-INTERVAL;VALUE=DURATION:PT1H
X-Robots-Tag:noindex
X-PUBLISHED-TTL:PT1H
BEGIN:VTIMEZONE
TZID:America/Detroit
BEGIN:DAYLIGHT
TZOFFSETFROM:-0500
TZOFFSETTO:-0400
TZNAME:EDT
DTSTART:20230312T070000
END:DAYLIGHT
BEGIN:STANDARD
TZOFFSETFROM:-0400
TZOFFSETTO:-0500
TZNAME:EST
DTSTART:20231105T060000
END:STANDARD
BEGIN:DAYLIGHT
TZOFFSETFROM:-0500
TZOFFSETTO:-0400
TZNAME:EDT
DTSTART:20240310T070000
END:DAYLIGHT
BEGIN:STANDARD
TZOFFSETFROM:-0400
TZOFFSETTO:-0500
TZNAME:EST
DTSTART:20241103T060000
END:STANDARD
BEGIN:DAYLIGHT
TZOFFSETFROM:-0500
TZOFFSETTO:-0400
TZNAME:EDT
DTSTART:20250309T070000
END:DAYLIGHT
BEGIN:STANDARD
TZOFFSETFROM:-0400
TZOFFSETTO:-0500
TZNAME:EST
DTSTART:20251102T060000
END:STANDARD
END:VTIMEZONE
BEGIN:VEVENT
DTSTART;TZID=America/Detroit:20240905T180000
DTEND;TZID=America/Detroit:20240905T200000
DTSTAMP:20260419T184435
CREATED:20240821T134533Z
LAST-MODIFIED:20240821T134533Z
UID:30157-1725559200-1725566400@laurelarts.org
SUMMARY:Create Your Own Washi Tape Journal & Pen Set
DESCRIPTION:Instructor Richelle Shriver\, Owner of Inkspiration by Richelle\, will be offering another fun and creative workshop here at Laurel Arts. In this simple and fun class\, participants will have the opportunity to make a Washi Tape journal cover and five matching Washi Tape pens. Unique\, beautiful stationery has become a popular trend and what is more fun than making your very own design? Richelle will provide step-by-step instructions for designing and creating your journal and pens. This set would be perfect to use on your own or to give as a gift!\nAll materials needed to create one Washi Tape journal cover and five matching Washi Tape pens will be provided\, including a variety of tapes to choose from. Participants are also welcome to bring their own tape designs as well.\nThis class is perfect for teens and adults who enjoy crafting and want to create beautiful\, personalized stationery. Due to the use of an exacto knife for parts of the project\, this class is not suitable for young children.\n\nThursday\, September 5 at 6pm to 8pmCost for class: $25 nonmembers/$20 members plus $5 materials fee payable to Laurel Arts\nLocation: Laurel Arts at 601 Georgian Place\, Somerset.\n\nPreregistration is required. Call/Text 814-442-6217 or call Laurel Arts at 814-443-1835 to register by September 1. We do ask for 50% of the fees to be paid at the time of registration. We can take credit card by phone or stop in at either location to pay with cash or check.
URL:https://laurelarts.org/event/create-your-own-washi-tape-journal-pen-set/
LOCATION:Laurel Arts Education & Dance Center\, 601 Georgian Place\, Somerset\, PA\, 15501\, United States
CATEGORIES:﻿﻿Art Classes﻿﻿
ATTACH;FMTTYPE=image/png:https://laurelarts.org/wp-content/uploads/2024/08/Untitled-design-3.png
END:VEVENT
BEGIN:VEVENT
DTSTART;TZID=America/Detroit:20240914T100000
DTEND;TZID=America/Detroit:20240914T120000
DTSTAMP:20260419T184435
CREATED:20240817T010657Z
LAST-MODIFIED:20240817T010657Z
UID:30076-1726308000-1726315200@laurelarts.org
SUMMARY:Apple Dumpling Workshop
DESCRIPTION:Did you know that September 17 is National Apple Dumpling Day? Join us to celebrate and learn how to make apple dumplings from scratch! Each participant will get some to take home with them.This event is best suited for ages 12 and up.This workshop takes place on Saturday\, September 14 at 10am to Noon at 601 Georgian Place\, Somerset.Cost: $25 nonmembers/$20 members payable to Laurel Arts plus $15 materials fee payable to Marsha Schmuck. Our new payment policy requires students to pay 50% of the total tuition and materials upon registration. This is non-refundable.Call or text 814-442-6217 or call 814-443-1835 to register by September 7.
URL:https://laurelarts.org/event/apple-dumpling-workshop-4/
LOCATION:Laurel Arts Education & Dance Center\, 601 Georgian Place\, Somerset\, PA\, 15501\, United States
CATEGORIES:﻿﻿Art Classes﻿﻿
ATTACH;FMTTYPE=image/jpeg:https://laurelarts.org/wp-content/uploads/2024/08/455730091_1213783063307549_866708200962759278_n.jpg
END:VEVENT
BEGIN:VEVENT
DTSTART;TZID=America/Detroit:20240914T140000
DTEND;TZID=America/Detroit:20240914T160000
DTSTAMP:20260419T184435
CREATED:20240313T223146Z
LAST-MODIFIED:20240313T223146Z
UID:29303-1726322400-1726329600@laurelarts.org
SUMMARY:Summer Cooking Series - Seasonal Quiche
DESCRIPTION:Laurel Arts and Instructor Elizabeth Miller will be offering cooking classes on the 2nd Saturday of each month at 2pm to 4pm\, in collaboration with the SOCO Farmers Market. Each class will feature ingredients from one or more vendors.\nThe Seasonal Quiche class takes place on Saturday\, September 14 at 2pm to 4pm at 601 Georgian Place\, Somerset.\nThe class will include how to make a delicious quiche using local ingredients including mushrooms from Sheep Ridge Farms.\nCost: $25 nonmembers/$20 members plus a $20 materials fee all payable to Laurel Arts.\nPreregistration is required at least 1 week before each class. Call or text 814-442-6217 or call 814-443-1835 to register. A nonrefundable payment of 50% of the fees is required at the time of registration.
URL:https://laurelarts.org/event/summer-cooking-series-seasonal-quiche/
LOCATION:Laurel Arts Education & Dance Center\, 601 Georgian Place\, Somerset\, PA\, 15501\, United States
CATEGORIES:﻿﻿Art Classes﻿﻿
ATTACH;FMTTYPE=image/png:https://laurelarts.org/wp-content/uploads/2024/03/LAUREL-ARTS-SUMMER-COOKING-SERIES-5.png
END:VEVENT
BEGIN:VEVENT
DTSTART;TZID=America/Detroit:20240915T140000
DTEND;TZID=America/Detroit:20240915T160000
DTSTAMP:20260419T184435
CREATED:20240817T003613Z
LAST-MODIFIED:20240817T003613Z
UID:30073-1726408800-1726416000@laurelarts.org
SUMMARY:Herbology Workshop - Terrarium Building & Create a Clay Mandrake
DESCRIPTION:Build a terrarium in Hogwart’s style with a variety of plants complete with instructions on how to care for them. Instructor Marsha Schmuck will also walk students step by step in creating an adorable Mandrake to complete your terrarium.\nClass takes place on Sunday\, September 15 at 2pm to 4pm at 601 Georgian Place\, Somerset.\nThe cost for the workshop is $25 nonmembers/$20 members payable to Laurel Arts plus a $35 materials fee.\nPre-registration is required. Call or text 814-442-6217 or call Laurel Arts at 814-443-1835 to register by September 3 so supplies can be ordered.
URL:https://laurelarts.org/event/herbology-workshop-terrarium-building-create-a-clay-mandrake/
LOCATION:Laurel Arts Education & Dance Center\, 601 Georgian Place\, Somerset\, PA\, 15501\, United States
CATEGORIES:﻿﻿Art Classes﻿﻿
ATTACH;FMTTYPE=image/png:https://laurelarts.org/wp-content/uploads/2024/08/Herbology-Workshop.png
END:VEVENT
BEGIN:VEVENT
DTSTART;TZID=America/Detroit:20240916T180000
DTEND;TZID=America/Detroit:20240916T200000
DTSTAMP:20260419T184435
CREATED:20240509T011947Z
LAST-MODIFIED:20240614T234456Z
UID:29657-1726509600-1726516800@laurelarts.org
SUMMARY:Vintage Window Painting Workshop with Acrylics
DESCRIPTION:We are excited to add Acrylic Painter Cathi Neuhof to our line up of amazing instructors here at Laurel Arts. Cathi has taught at both Somerset & Johnstown Christian Schools and to area homeschoolers. She has had her artwork in various places and is currently booking painting parties. Cathi will walk students step by step through painting the beautiful vintage window pictured. This class is perfect for beginners\, intermediate\, or advanced painters and would make a great afternoon out with family and friends.\n\nMonday\, September 16 at 6pm to 8pmClass fee payable to Laurel Arts:$60 Non-members$48 MembersAll materials are Included; window\, raffia\, paint\, & dried stems. .\nLocation: Laurel Arts at 601 Georgian Place\, Somerset.\nPreregistration is required. Call/Text 814-442-6217 or call Laurel Arts at 814-443-1835 to register by Monday\, September 9. We do ask for 50% of the fees to be paid at the time of registration. We can take credit card by phone or stop in at either location to pay with cash or check.
URL:https://laurelarts.org/event/vintage-window-painting-workshop-with-acrylics/
LOCATION:Laurel Arts Education & Dance Center\, 601 Georgian Place\, Somerset\, PA\, 15501\, United States
CATEGORIES:﻿﻿Art Classes﻿﻿
ATTACH;FMTTYPE=image/png:https://laurelarts.org/wp-content/uploads/2024/05/Your-paragraph-text-83.png
END:VEVENT
BEGIN:VEVENT
DTSTART;TZID=America/Detroit:20240917T180000
DTEND;TZID=America/Detroit:20240917T203000
DTSTAMP:20260419T184435
CREATED:20240904T230645Z
LAST-MODIFIED:20240904T230645Z
UID:30249-1726596000-1726605000@laurelarts.org
SUMMARY:Halloween Stained Glass Workshop
DESCRIPTION:Join instructor Cortney Himes for this workshop as she continues to teach students her popular stained glass skills. During this 3 week workshop\, students will learn the basic steps in cutting\, soldering\, and creating beautiful stained glass pieces. In the 3 weeks\, participants will work on completing their choice of 2 stained glass pieces that are pictured – perfect for Halloween! Students will be asked to make their selections when they register so supplies can be purchased. The spider is made from Uranium glass and glows in the dark!\nCortney will also be teaching a faux stained class using resin and a linoprint workshop this month.\n\nTuesdays\, September 17\, 24 & October 1 at 6pm to 8:30pm\nClass fee payable to Laurel Arts:$85 Non-members$68 Membersplus $35 materials\nLocation: Laurel Arts at 601 Georgian Place\, Somerset.\n\nPreregistration is required. Call/Text 814-442-6217 or call Laurel Arts at 814-443-1835 to register by September 10. Space is limited to 6-8 students. We do ask for 50% of the fees to be paid at the time of registration. We can take credit card by phone or stop in at either location to pay with cash or check.
URL:https://laurelarts.org/event/halloween-stained-glass-workshop/
LOCATION:Laurel Arts Education & Dance Center\, 601 Georgian Place\, Somerset\, PA\, 15501\, United States
CATEGORIES:﻿﻿Art Classes﻿﻿
ATTACH;FMTTYPE=image/png:https://laurelarts.org/wp-content/uploads/2024/09/Halloween-Stained-Glass-2.png
END:VEVENT
BEGIN:VEVENT
DTSTART;TZID=America/Detroit:20240921T100000
DTEND;TZID=America/Detroit:20240921T120000
DTSTAMP:20260419T184435
CREATED:20240828T012312Z
LAST-MODIFIED:20240828T012312Z
UID:30211-1726912800-1726920000@laurelarts.org
SUMMARY:Minion Celebration
DESCRIPTION:Let’s celebrate the new Minion movie release with some themed crafts\, games\, and snacks. Mix up some yellow slime\, craft your favorite Minion\, and create a special one to eat! Instructor Marsha Schmuck will walk students through making a variety of these small\, yellow\, capsule shaped creatures in unique ways!\n\nThis workshop takes place on Saturday\, September 21 at 10am to Noon at 601 Georgian Place\, Somerset.\nCost: $25 nonmembers/$20 members payable to Laurel Arts plus $10 materials fee payable to Marsha Schmuck.\n\nOur new payment policy requires students to pay 50% of the total tuition and materials upon registration. This is non-refundable. Call or text 814-442-6217 or call 814-443-1835 to register by September 14.
URL:https://laurelarts.org/event/minion-celebration/
LOCATION:Laurel Arts Education & Dance Center\, 601 Georgian Place\, Somerset\, PA\, 15501\, United States
CATEGORIES:﻿﻿Art Classes﻿﻿
ATTACH;FMTTYPE=image/png:https://laurelarts.org/wp-content/uploads/2024/08/Please.png
END:VEVENT
BEGIN:VEVENT
DTSTART;TZID=America/Detroit:20240921T100000
DTEND;TZID=America/Detroit:20240921T140000
DTSTAMP:20260419T184435
CREATED:20240816T232436Z
LAST-MODIFIED:20240817T003154Z
UID:30069-1726912800-1726927200@laurelarts.org
SUMMARY:Needle Felting Pillow Workshop
DESCRIPTION:Create a beautiful pillow with needle felting artist Loretta Radeschi. Bring a picture you’d like to recreate with wool and llama fleece or use the one pictured as your guide. Please bring: a pillow\, round or square\, no larger than 12’ x 12” and scissors to cut felt. Loretta will provide the felt backing\, wool\, fleece\, and needles. No experience necessary! This class is designed for students ages 8 through adult.\nClass takes place on Saturday\, September 21 at 10am to 2pm at 601 Georgian Place\, Somerset.\nThe cost for the workshop is $35 nonmembers/$28 members payable to Laurel Arts plus a $25 materials fee.\nPre-registration is required. Call or text 814-442-6217 or call Laurel Arts at 814-443-1835 to register by September 14.
URL:https://laurelarts.org/event/needle-felting-pillow-workshop/
LOCATION:Laurel Arts Education & Dance Center\, 601 Georgian Place\, Somerset\, PA\, 15501\, United States
CATEGORIES:﻿﻿Art Classes﻿﻿
ATTACH;FMTTYPE=image/png:https://laurelarts.org/wp-content/uploads/2024/08/Needle-Felting-Pillow-Workshop.png
END:VEVENT
BEGIN:VEVENT
DTSTART;TZID=America/Detroit:20240921T160000
DTEND;TZID=America/Detroit:20240921T180000
DTSTAMP:20260419T184435
CREATED:20240821T141453Z
LAST-MODIFIED:20240821T141453Z
UID:30160-1726934400-1726941600@laurelarts.org
SUMMARY:Shepherd's Hook Bookmark Workshop
DESCRIPTION:Join us for a delightful crafting experience in our Shepherd’s Hook Bookmark Class. In this workshop\, you’ll learn to create a beautiful and functional bookmark using a shepherd’s hook design\, perfect for marking your place in any book with a touch of elegance. Under the guidance of Instructor Richelle Shriver\, Owner of Inkspiration by Richelle\, you’ll learn how to decorate and personalize your bookmark. From selecting charms and beads to mastering the art of assembly\, you’ll have the freedom to create a piece that reflects your unique style. \nAll materials needed to create one shepherd’s hook bookmark will be provided\, including a selection of charms\, beads\, and tools. Store-purchased\, beads “reclaimed” from old jewelry pieces\, and handmade beads will be available\, but participants are also welcome to bring their own beads. If you have attended a bead-making class with Richelle\, feel free to bring your beads along to aid in creating an even more unique and special bookmark. \nNo previous crafting experience is necessary\, making this class ideal for beginners and seasoned crafters alike. This class is perfect for ages 12 and up. Younger creators are welcome to attend with an adult to assist them. \n\nSaturday\, September 21 at 4pm to 6pmCost for class: $20 nonmembers/$16 members plus $8 materials fee payable to Laurel Arts\nLocation: Laurel Arts at 601 Georgian Place\, Somerset.\n\nPreregistration is required. Call/Text 814-442-6217 or call Laurel Arts at 814-443-1835 to register by September 14. We do ask for 50% of the fees to be paid at the time of registration. We can take credit card by phone or stop in at either location to pay with cash or check.
URL:https://laurelarts.org/event/shepherds-hook-bookmark-workshop/
LOCATION:Laurel Arts Education & Dance Center\, 601 Georgian Place\, Somerset\, PA\, 15501\, United States
CATEGORIES:﻿﻿Art Classes﻿﻿
ATTACH;FMTTYPE=image/png:https://laurelarts.org/wp-content/uploads/2024/08/Shepherds-Hook-Bookmarks-2.png
END:VEVENT
BEGIN:VEVENT
DTSTART;TZID=America/Detroit:20240921T160000
DTEND;TZID=America/Detroit:20240921T180000
DTSTAMP:20260419T184435
CREATED:20240828T234202Z
LAST-MODIFIED:20240828T234202Z
UID:30216-1726934400-1726941600@laurelarts.org
SUMMARY:Scarecrow Claypot Workshop
DESCRIPTION:Join Instructor Marsha Schmuck for the evening to create a beautiful project perfect for Fall decorating. Students will paint a 5 inch claypot and an 8 inch clay saucer to create a scarecrow. Details will be made easy with patterns and paint pens. As our project dries for the next step\, we will use styrofoam balls and yarn to craft two pumpkins in your color of choice. Pine cones\, orange slices\, cinnamon sticks\, and a 4 inch battery operated candle will also be provided. This class is best suited for adults or teens.\n\nThis workshop takes place on Saturday\, September 21 at 4pm to 6pm at 601 Georgian Place\, Somerset.\n\nCost: $30 nonmembers/$24 members payable to Laurel Arts plus $25 materials fee payable to Marsha Schmuck.\n\nOur new payment policy requires students to pay 50% of the total tuition and materials upon registration. This is non-refundable.Call or text 814-442-6217 or call 814-443-1835 to register by September 14.
URL:https://laurelarts.org/event/scarecrow-claypot-workshop/
LOCATION:Laurel Arts Education & Dance Center\, 601 Georgian Place\, Somerset\, PA\, 15501\, United States
ATTACH;FMTTYPE=image/png:https://laurelarts.org/wp-content/uploads/2024/08/Your-paragraph-text-87.png
END:VEVENT
BEGIN:VEVENT
DTSTART;TZID=America/Detroit:20240922T140000
DTEND;TZID=America/Detroit:20240922T170000
DTSTAMP:20260419T184435
CREATED:20240829T000841Z
LAST-MODIFIED:20240829T000841Z
UID:30221-1727013600-1727024400@laurelarts.org
SUMMARY:Water Bath Canning - How to Can Applesauce
DESCRIPTION:Instructor Elizabeth Miller will be offering this how to workshop in Water Bath Canning. Students will learn to make applesauce and how to can it for storage. Participants will get one quart jar of applesauce to take home.\nClass takes place on Saturday\, September 22 at 2pm to 5pm at 601 Georgian Place\, Somerset. The length of the class depends upon how many participants.\n*Please bring a peeler.\nCost: $30 nonmembers/$24 members plus a $25 materials fee all payable to Laurel Arts.\nPreregistration is required at least 1 week before each class. Call or text 814-442-6217 or call 814-443-1835 to register. A nonrefundable payment of 50% of the fees is required at the time of registration.
URL:https://laurelarts.org/event/water-bath-canning-how-to-can-applesauce/
LOCATION:Laurel Arts Education & Dance Center\, 601 Georgian Place\, Somerset\, PA\, 15501\, United States
CATEGORIES:﻿﻿Art Classes﻿﻿
ATTACH;FMTTYPE=image/png:https://laurelarts.org/wp-content/uploads/2024/08/Water-Bath-Canning-How-to-Can-Applesauce.png
END:VEVENT
BEGIN:VEVENT
DTSTART;TZID=America/Detroit:20240924T180000
DTEND;TZID=America/Detroit:20240924T203000
DTSTAMP:20260419T184435
CREATED:20240904T230645Z
LAST-MODIFIED:20240904T230645Z
UID:30252-1727200800-1727209800@laurelarts.org
SUMMARY:Halloween Stained Glass Workshop
DESCRIPTION:Join instructor Cortney Himes for this workshop as she continues to teach students her popular stained glass skills. During this 3 week workshop\, students will learn the basic steps in cutting\, soldering\, and creating beautiful stained glass pieces. In the 3 weeks\, participants will work on completing their choice of 2 stained glass pieces that are pictured – perfect for Halloween! Students will be asked to make their selections when they register so supplies can be purchased. The spider is made from Uranium glass and glows in the dark!\nCortney will also be teaching a faux stained class using resin and a linoprint workshop this month.\n\nTuesdays\, September 17\, 24 & October 1 at 6pm to 8:30pm\nClass fee payable to Laurel Arts:$85 Non-members$68 Membersplus $35 materials\nLocation: Laurel Arts at 601 Georgian Place\, Somerset.\n\nPreregistration is required. Call/Text 814-442-6217 or call Laurel Arts at 814-443-1835 to register by September 10. Space is limited to 6-8 students. We do ask for 50% of the fees to be paid at the time of registration. We can take credit card by phone or stop in at either location to pay with cash or check.
URL:https://laurelarts.org/event/halloween-stained-glass-workshop-2024-09-24/
LOCATION:Laurel Arts Education & Dance Center\, 601 Georgian Place\, Somerset\, PA\, 15501\, United States
CATEGORIES:﻿﻿Art Classes﻿﻿
ATTACH;FMTTYPE=image/png:https://laurelarts.org/wp-content/uploads/2024/09/Halloween-Stained-Glass-2.png
END:VEVENT
BEGIN:VEVENT
DTSTART;TZID=America/Detroit:20240929T140000
DTEND;TZID=America/Detroit:20240929T160000
DTSTAMP:20260419T184435
CREATED:20240903T203903Z
LAST-MODIFIED:20240903T203903Z
UID:30246-1727618400-1727625600@laurelarts.org
SUMMARY:Hanging Fabric Sunflower Workshop
DESCRIPTION:Fall is the perfect time of year to craft a beautiful sunflower decoration! Join instructor Marsha Schmuck to learn how to use simple knots and a mason jar ring to make a festive sunflower wall hanging. The piece includes an 11×15 pallet wood hanging backdrop. Assorted fabric will be available for students to choose from.\nThis workshop takes place on Sunday\, September 29 at 2pm to 4pm at 601 Georgian Place\, Somerset.\n\nCost: $25 nonmembers/$20 members payable to Laurel Arts plus $18 materials fee.\nOur new payment policy requires students to pay 50% of the total tuition and materials upon registration. This is non-refundable.Call or text 814-442-6217 or call 814-443-1835 to register by September 22.
URL:https://laurelarts.org/event/hanging-fabric-sunflower-workshop/
LOCATION:Laurel Arts Education & Dance Center\, 601 Georgian Place\, Somerset\, PA\, 15501\, United States
CATEGORIES:﻿﻿Art Classes﻿﻿
ATTACH;FMTTYPE=image/png:https://laurelarts.org/wp-content/uploads/2024/09/Your-paragraph-text-89.png
END:VEVENT
END:VCALENDAR